BEGIN:VCALENDAR
VERSION:2.0
PRODID:icalendar-ruby
CALSCALE:GREGORIAN
METHOD:PUBLISH
BEGIN:VEVENT
DTSTAMP:20260422T094916Z
UID:17-8735380@holytrinitycathedral.ca
DTSTART:20261016T023000Z
DTEND:20261016T040000Z
CLASS:PUBLIC
CREATED:20260421T164015
DESCRIPTION:Choir rehearsals are Thursday evenings from 7:30-9 pm from now 
 until Easter with the help of an accompanist. \nThere is also a review of
  the service music on Sunday mornings from 9:15 to 9:45 am prior to the 10
  am worship.   \nPlease contact the music program through the parish off
 ice at administrator@holytrinitycathedral.ca \nif you are interested in j
 oining the choir.  \n 
LAST-MODIFIED:20260421T164015
LOCATION:Lounge or Cathedral
SUMMARY:Choir Rehearsal
URL;VALUE=URI:https://www.holytrinitycathedral.ca/events/choir-rehearsal/20
 26-10-15
ATTACH;FILENAME=Choir-practice.png;FMTTYPE=image/png:https://dq5pwpg1q8ru0.
 cloudfront.net/2019/08/03/18/00/39/3ccd9b88-3684-435a-b379-6102e716dc9b/Ch
 oir-practice.png
END:VEVENT
END:VCALENDAR
