BEGIN:VCALENDAR
VERSION:2.0
PRODID:icalendar-ruby
CALSCALE:GREGORIAN
METHOD:PUBLISH
BEGIN:VEVENT
DTSTAMP:20260424T135852Z
UID:461-8780584@holytrinitycathedral.ca
DTSTART:20261025T220000Z
DTEND:20261025T230000Z
CLASS:PUBLIC
CREATED:20260424T063223
DESCRIPTION:Jesus Mission Church is a congregation in the Presbyterian trad
 ition.
LAST-MODIFIED:20260424T063223
LOCATION:Parish Lounge
SUMMARY:Jesus Mission Church
URL;VALUE=URI:https://www.holytrinitycathedral.ca/events/jesus-mission-chur
 ch--461/2026-10-25
END:VEVENT
END:VCALENDAR
