BEGIN:VCALENDAR
VERSION:2.0
PRODID:icalendar-ruby
CALSCALE:GREGORIAN
METHOD:PUBLISH
BEGIN:VEVENT
DTSTAMP:20260421T080752Z
UID:21-8717183@holytrinitycathedral.ca
DTSTART:20261004T020000Z
DTEND:20261004T030000Z
CLASS:PUBLIC
CREATED:20260420T162734
DESCRIPTION:\nsupport group meeting\n\n\n\n
LAST-MODIFIED:20260420T162734
LOCATION:Upper Hall
SUMMARY:NA- Almost Live Group Meeting
URL;VALUE=URI:https://www.holytrinitycathedral.ca/events/na-almost-live-gro
 up-meeting/2026-10-03
END:VEVENT
END:VCALENDAR
