BEGIN:VCALENDAR
VERSION:2.0
PRODID:icalendar-ruby
CALSCALE:GREGORIAN
METHOD:PUBLISH
BEGIN:VEVENT
DTSTAMP:20260423T100134Z
UID:21-8754261@holytrinitycathedral.ca
DTSTART:20261011T020000Z
DTEND:20261011T030000Z
CLASS:PUBLIC
CREATED:20260422T180803
DESCRIPTION:\nsupport group meeting\n\n\n\n
LAST-MODIFIED:20260422T180803
LOCATION:Upper Hall
SUMMARY:NA- Almost Live Group Meeting
URL;VALUE=URI:https://www.holytrinitycathedral.ca/events/na-almost-live-gro
 up-meeting/2026-10-10
END:VEVENT
END:VCALENDAR
