BEGIN:VCALENDAR
VERSION:2.0
PRODID:icalendar-ruby
CALSCALE:GREGORIAN
METHOD:PUBLISH
BEGIN:VEVENT
DTSTAMP:20260423T112009Z
UID:21-8757348@holytrinitycathedral.ca
DTSTART:20261018T020000Z
DTEND:20261018T030000Z
CLASS:PUBLIC
CREATED:20260423T033707
DESCRIPTION:\nsupport group meeting\n\n\n\n
LAST-MODIFIED:20260423T033707
LOCATION:Upper Hall
SUMMARY:NA- Almost Live Group Meeting
URL;VALUE=URI:https://www.holytrinitycathedral.ca/events/na-almost-live-gro
 up-meeting/2026-10-17
END:VEVENT
END:VCALENDAR
