BEGIN:VCALENDAR
VERSION:2.0
PRODID:icalendar-ruby
CALSCALE:GREGORIAN
METHOD:PUBLISH
BEGIN:VEVENT
DTSTAMP:20260423T143016Z
UID:21-8760436@holytrinitycathedral.ca
DTSTART:20261101T020000Z
DTEND:20261101T030000Z
CLASS:PUBLIC
CREATED:20260423T063236
DESCRIPTION:\nsupport group meeting\n\n\n\n
LAST-MODIFIED:20260423T063236
LOCATION:Upper Hall
SUMMARY:NA- Almost Live Group Meeting
URL;VALUE=URI:https://www.holytrinitycathedral.ca/events/na-almost-live-gro
 up-meeting/2026-10-31
END:VEVENT
END:VCALENDAR
