BEGIN:VCALENDAR
VERSION:2.0
PRODID:icalendar-ruby
CALSCALE:GREGORIAN
METHOD:PUBLISH
BEGIN:VEVENT
DTSTAMP:20260423T075046Z
UID:383-8755014@holytrinitycathedral.ca
DTSTART:20261028T013000Z
DTEND:20261028T033000Z
CLASS:PUBLIC
CREATED:20260422T180804
DESCRIPTION:support group meeting
LAST-MODIFIED:20260422T180804
LOCATION:Upper Hall
SUMMARY:NA-Moody Tuesdays Group Meeting
URL;VALUE=URI:https://www.holytrinitycathedral.ca/events/na-moody-tuesdays-
 group-meeting/2026-10-27
END:VEVENT
END:VCALENDAR
