BEGIN:VCALENDAR
VERSION:2.0
PRODID:icalendar-ruby
CALSCALE:GREGORIAN
METHOD:PUBLISH
BEGIN:VEVENT
DTSTAMP:20260423T085735Z
UID:383-8755015@holytrinitycathedral.ca
DTSTART:20261104T023000Z
DTEND:20261104T043000Z
CLASS:PUBLIC
CREATED:20260422T180805
DESCRIPTION:support group meeting
LAST-MODIFIED:20260422T180805
LOCATION:Upper Hall
SUMMARY:NA-Moody Tuesdays Group Meeting
URL;VALUE=URI:https://www.holytrinitycathedral.ca/events/na-moody-tuesdays-
 group-meeting/2026-11-03
END:VEVENT
END:VCALENDAR
